BEGIN:VCALENDAR
VERSION:2.0
PRODID:-//Ouachita Green - ECPv6.15.17.1//NONSGML v1.0//EN
CALSCALE:GREGORIAN
METHOD:PUBLISH
X-ORIGINAL-URL:https://ouachitagreen.org
X-WR-CALDESC:Events for Ouachita Green
REFRESH-INTERVAL;VALUE=DURATION:PT1H
X-Robots-Tag:noindex
X-PUBLISHED-TTL:PT1H
BEGIN:VTIMEZONE
TZID:America/Chicago
BEGIN:DAYLIGHT
TZOFFSETFROM:-0600
TZOFFSETTO:-0500
TZNAME:CDT
DTSTART:20200308T080000
END:DAYLIGHT
BEGIN:STANDARD
TZOFFSETFROM:-0500
TZOFFSETTO:-0600
TZNAME:CST
DTSTART:20201101T070000
END:STANDARD
BEGIN:DAYLIGHT
TZOFFSETFROM:-0600
TZOFFSETTO:-0500
TZNAME:CDT
DTSTART:20210314T080000
END:DAYLIGHT
BEGIN:STANDARD
TZOFFSETFROM:-0500
TZOFFSETTO:-0600
TZNAME:CST
DTSTART:20211107T070000
END:STANDARD
BEGIN:DAYLIGHT
TZOFFSETFROM:-0600
TZOFFSETTO:-0500
TZNAME:CDT
DTSTART:20220313T080000
END:DAYLIGHT
BEGIN:STANDARD
TZOFFSETFROM:-0500
TZOFFSETTO:-0600
TZNAME:CST
DTSTART:20221106T070000
END:STANDARD
BEGIN:DAYLIGHT
TZOFFSETFROM:-0600
TZOFFSETTO:-0500
TZNAME:CDT
DTSTART:20230312T080000
END:DAYLIGHT
BEGIN:STANDARD
TZOFFSETFROM:-0500
TZOFFSETTO:-0600
TZNAME:CST
DTSTART:20231105T070000
END:STANDARD
END:VTIMEZONE
BEGIN:VEVENT
DTSTART;TZID=America/Chicago:20220722T130000
DTEND;TZID=America/Chicago:20220722T150000
DTSTAMP:20260421T152147
CREATED:20220713T195242Z
LAST-MODIFIED:20220713T195242Z
UID:2678-1658494800-1658502000@ouachitagreen.org
SUMMARY:VCOM Team Up 2 Clean Up
DESCRIPTION:
URL:https://ouachitagreen.org/event/vcom-team-up-2-clean-up/
ATTACH;FMTTYPE=image/jpeg:https://ouachitagreen.org/wp-content/uploads/July-22-2022-1p-3p.jpg
ORGANIZER;CN="Ouachita Green":MAILTO:info@ouachitagreen.org
END:VEVENT
BEGIN:VEVENT
DTSTART;TZID=America/Chicago:20220625T080000
DTEND;TZID=America/Chicago:20220625T110000
DTSTAMP:20260421T152147
CREATED:20220526T174346Z
LAST-MODIFIED:20220526T174346Z
UID:2588-1656144000-1656154800@ouachitagreen.org
SUMMARY:West Monroe Community Workday
DESCRIPTION:
URL:https://ouachitagreen.org/event/west-monroe-community-workday/
ATTACH;FMTTYPE=image/png:https://ouachitagreen.org/wp-content/uploads/Copy-of-Copy-of-Leafy-Fall-Festival-Flyer-1.png
END:VEVENT
BEGIN:VEVENT
DTSTART;TZID=America/Chicago:20220615T090000
DTEND;TZID=America/Chicago:20220615T110000
DTSTAMP:20260421T152147
CREATED:20220526T174159Z
LAST-MODIFIED:20220526T174159Z
UID:2585-1655283600-1655290800@ouachitagreen.org
SUMMARY:Zoo Community Workday
DESCRIPTION:
URL:https://ouachitagreen.org/event/zoo-community-workday/
ATTACH;FMTTYPE=image/jpeg:https://ouachitagreen.org/wp-content/uploads/Carroll-HS-Clean-Up.jpg
ORGANIZER;CN="Ouachita Green":MAILTO:info@ouachitagreen.org
END:VEVENT
BEGIN:VEVENT
DTSTART;VALUE=DATE:20220615
DTEND;VALUE=DATE:20220723
DTSTAMP:20260421T152147
CREATED:20220615T214635Z
LAST-MODIFIED:20220617T174250Z
UID:2629-1655251200-1658534399@ouachitagreen.org
SUMMARY:Ouachita Green Photography Contest
DESCRIPTION:
URL:https://ouachitagreen.org/event/ouachita-green-photography-contest/
ATTACH;FMTTYPE=image/jpeg:https://ouachitagreen.org/wp-content/uploads/Copy-of-Copy-of-Photography-Contest-2020-1.jpg
ORGANIZER;CN="Ouachita Green":MAILTO:info@ouachitagreen.org
END:VEVENT
BEGIN:VEVENT
DTSTART;TZID=America/Chicago:20220507T090000
DTEND;TZID=America/Chicago:20220507T110000
DTSTAMP:20260421T152147
CREATED:20220407T145041Z
LAST-MODIFIED:20220407T145041Z
UID:2497-1651914000-1651921200@ouachitagreen.org
SUMMARY:18th & 19th Streets Team Up 2 Clean Up 2
DESCRIPTION:
URL:https://ouachitagreen.org/event/18th-19th-streets-team-up-2-clean-up-2/
ATTACH;FMTTYPE=image/jpeg:https://ouachitagreen.org/wp-content/uploads/KMB-2621.jpg
ORGANIZER;CN="Keep Monroe Beautiful":MAILTO:kimberly.essex@ci.monroe.la.us
END:VEVENT
BEGIN:VEVENT
DTSTART;TZID=America/Chicago:20220503T160000
DTEND;TZID=America/Chicago:20220503T180000
DTSTAMP:20260421T152147
CREATED:20220422T211629Z
LAST-MODIFIED:20220422T211629Z
UID:2518-1651593600-1651600800@ouachitagreen.org
SUMMARY:West Monroe Cleanest City Contest Community Cleanup
DESCRIPTION:
URL:https://ouachitagreen.org/event/west-monroe-cleanest-city-contest-community-cleanup/
ORGANIZER;CN="Keep West Monroe Beautiful":MAILTO:info@kwmb.la
END:VEVENT
BEGIN:VEVENT
DTSTART;TZID=America/Chicago:20220502T160000
DTEND;TZID=America/Chicago:20220502T180000
DTSTAMP:20260421T152147
CREATED:20220422T221010Z
LAST-MODIFIED:20220422T221124Z
UID:2521-1651507200-1651514400@ouachitagreen.org
SUMMARY:City of Monroe Cleanest City Contest Community Cleanup
DESCRIPTION:
URL:https://ouachitagreen.org/event/monroe-city-cleanest-city-contest-community-cleanup/
ATTACH;FMTTYPE=image/jpeg:https://ouachitagreen.org/wp-content/uploads/Copy-of-Blue-Community-Illustration-Volunteer-Flyer.jpg
END:VEVENT
BEGIN:VEVENT
DTSTART;TZID=America/Chicago:20220430T090000
DTEND;TZID=America/Chicago:20220430T110000
DTSTAMP:20260421T152147
CREATED:20220304T183058Z
LAST-MODIFIED:20220304T183058Z
UID:2429-1651309200-1651316400@ouachitagreen.org
SUMMARY:Hasley Cemetery Team Up 2 Clean Up
DESCRIPTION:
URL:https://ouachitagreen.org/event/hasley-cemetery-team-up-2-clean-up/
LOCATION:Hasley Cemetery
ATTACH;FMTTYPE=image/jpeg:https://ouachitagreen.org/wp-content/uploads/1.jpg
ORGANIZER;CN="Keep West Monroe Beautiful":MAILTO:info@kwmb.la
END:VEVENT
BEGIN:VEVENT
DTSTART;TZID=America/Chicago:20220423T080000
DTEND;TZID=America/Chicago:20220423T100000
DTSTAMP:20260421T152147
CREATED:20220302T163911Z
LAST-MODIFIED:20220302T164623Z
UID:2412-1650700800-1650708000@ouachitagreen.org
SUMMARY:Downtown Monroe Team Up 2 Clean Up
DESCRIPTION:
URL:https://ouachitagreen.org/event/downtown-monroe-team-up-2-clean-up/
LOCATION:2 DUDES BREW & QUE\, 436 Desiard St.\, Monroe\, LA\, 71201\, United States
CATEGORIES:Cleanup
ATTACH;FMTTYPE=image/jpeg:https://ouachitagreen.org/wp-content/uploads/Downtown-Monroe.jpg
END:VEVENT
BEGIN:VEVENT
DTSTART;TZID=America/Chicago:20220422T103000
DTEND;TZID=America/Chicago:20220422T120000
DTSTAMP:20260421T152147
CREATED:20220304T171302Z
LAST-MODIFIED:20220304T171336Z
UID:2425-1650623400-1650628800@ouachitagreen.org
SUMMARY:Leaders Against Litter Love the Boot Event
DESCRIPTION:
URL:https://ouachitagreen.org/event/leaders-against-litter-love-the-boot-event/
LOCATION:West Monroe City Hall\, 2305 N. 7th St.\, West Monroe\, LA\, 71291\, United States
ATTACH;FMTTYPE=image/jpeg:https://ouachitagreen.org/wp-content/uploads/LAL-2022-Instagram-Post.jpg
ORGANIZER;CN="Ouachita Green":MAILTO:info@ouachitagreen.org
END:VEVENT
BEGIN:VEVENT
DTSTART;TZID=America/Chicago:20220421T100000
DTEND;TZID=America/Chicago:20220421T120000
DTSTAMP:20260421T152147
CREATED:20220304T170447Z
LAST-MODIFIED:20220304T170713Z
UID:2421-1650535200-1650542400@ouachitagreen.org
SUMMARY:Downtown Monroe Green Space Thursday-Love the Boot Event
DESCRIPTION:
URL:https://ouachitagreen.org/event/downtown-monroe-green-space-thursday-love-the-boot-event/
LOCATION:335 Desiard St.\, 335 Desiard St.\, Monroe\, LA\, 71201
ATTACH;FMTTYPE=image/jpeg:https://ouachitagreen.org/wp-content/uploads/earth-hour-instagram-post-1.jpg
ORGANIZER;CN="Keep Monroe Beautiful":MAILTO:kimberly.essex@ci.monroe.la.us
END:VEVENT
BEGIN:VEVENT
DTSTART;TZID=America/Chicago:20220418T030000
DTEND;TZID=America/Chicago:20220424T120000
DTSTAMP:20260421T152147
CREATED:20220418T172714Z
LAST-MODIFIED:20220418T172714Z
UID:2511-1650250800-1650801600@ouachitagreen.org
SUMMARY:Love The Boot Week
DESCRIPTION:
URL:https://ouachitagreen.org/event/love-the-boot-week/
ATTACH;FMTTYPE=image/jpeg:https://ouachitagreen.org/wp-content/uploads/Love-The-Boot-Week-is-418-423-1.jpg
END:VEVENT
BEGIN:VEVENT
DTSTART;TZID=America/Chicago:20220411T150000
DTEND;TZID=America/Chicago:20220411T170000
DTSTAMP:20260421T152147
CREATED:20220405T143307Z
LAST-MODIFIED:20220405T143429Z
UID:2491-1649689200-1649696400@ouachitagreen.org
SUMMARY:Warhawk "Love The Boot" Campus Cleanup
DESCRIPTION:
URL:https://ouachitagreen.org/event/warhawk-love-the-boot-campus-cleanup/
LOCATION:ulm library\, LA\, United States
ATTACH;FMTTYPE=image/png:https://ouachitagreen.org/wp-content/uploads/Warhawk-CleanUp17.png
ORGANIZER;CN="Ouachita Green":MAILTO:info@ouachitagreen.org
END:VEVENT
BEGIN:VEVENT
DTSTART;TZID=America/Chicago:20220409T100000
DTEND;TZID=America/Chicago:20220409T120000
DTSTAMP:20260421T152147
CREATED:20220201T224840Z
LAST-MODIFIED:20220201T224840Z
UID:2366-1649498400-1649505600@ouachitagreen.org
SUMMARY:Robinson Elementary Community Team Up 2 Clean Up
DESCRIPTION:
URL:https://ouachitagreen.org/event/robinson-elementary-community-team-up-2-clean-up/
LOCATION:Robinson Elementary School\, 5101 Reddix\, Monroe\, LA\, 71202\, United States
ATTACH;FMTTYPE=image/jpeg:https://ouachitagreen.org/wp-content/uploads/Saturday-April-3-2021-1.jpg
ORGANIZER;CN="Ouachita Green":MAILTO:info@ouachitagreen.org
END:VEVENT
BEGIN:VEVENT
DTSTART;TZID=America/Chicago:20220319T100000
DTEND;TZID=America/Chicago:20220319T120000
DTSTAMP:20260421T152147
CREATED:20220126T200425Z
LAST-MODIFIED:20220201T225104Z
UID:2357-1647684000-1647691200@ouachitagreen.org
SUMMARY:Wossman High School Community Team Up 2 Clean Up.
DESCRIPTION:
URL:https://ouachitagreen.org/event/wossman-high-school-community-team-up-2-clean-up/
ATTACH;FMTTYPE=image/jpeg:https://ouachitagreen.org/wp-content/uploads/Copy-of-Copy-of-District-5.jpg
ORGANIZER;CN="Keep Monroe Beautiful":MAILTO:kimberly.essex@ci.monroe.la.us
END:VEVENT
BEGIN:VEVENT
DTSTART;TZID=America/Chicago:20220312T090000
DTEND;TZID=America/Chicago:20220312T130000
DTSTAMP:20260421T152147
CREATED:20211210T164755Z
LAST-MODIFIED:20220104T191926Z
UID:2246-1647075600-1647090000@ouachitagreen.org
SUMMARY:Household Hazardous Waste Collection Event
DESCRIPTION:
URL:https://ouachitagreen.org/event/household-hazardous-waste-collection-event/
LOCATION:IKE Hamilton Expo Center\, 501 Mane St\, West Monroe\, 71292
ATTACH;FMTTYPE=image/jpeg:https://ouachitagreen.org/wp-content/uploads/Copy-of-Household-Hazardous-Waste-Collection-Day-1.jpg
ORGANIZER;CN="Ouachita Green":MAILTO:info@ouachitagreen.org
END:VEVENT
BEGIN:VEVENT
DTSTART;TZID=America/Chicago:20220305T100000
DTEND;TZID=America/Chicago:20220305T120000
DTSTAMP:20260421T152147
CREATED:20220125T162858Z
LAST-MODIFIED:20220125T163415Z
UID:2350-1646474400-1646481600@ouachitagreen.org
SUMMARY:Sterlington Community Team Up 2 Clean Up
DESCRIPTION:
URL:https://ouachitagreen.org/event/sterlington-community-team-up-2-clean-up-2/
LOCATION:103 High Ave. Sterlington\, LA\, 103 High Ave.\, Sterlington\, LA\, United States
ATTACH;FMTTYPE=image/jpeg:https://ouachitagreen.org/wp-content/uploads/STERLINGTON-COMMUNITY-2.jpg
ORGANIZER;CN="Ouachita Green":MAILTO:info@ouachitagreen.org
END:VEVENT
BEGIN:VEVENT
DTSTART;TZID=America/Chicago:20220219T100000
DTEND;TZID=America/Chicago:20220219T120000
DTSTAMP:20260421T152147
CREATED:20220110T212337Z
LAST-MODIFIED:20220110T212337Z
UID:2325-1645264800-1645272000@ouachitagreen.org
SUMMARY:West Ouachita High School Community Team Up 2 Clean Up
DESCRIPTION:
URL:https://ouachitagreen.org/event/west-ouachita-high-school-community-team-up-2-clean-up/
ATTACH;FMTTYPE=image/jpeg:https://ouachitagreen.org/wp-content/uploads/HIGH-School-3-1.jpg
ORGANIZER;CN="Keep Ouachita Parish Beautiful":MAILTO:kopb@oppj.org
END:VEVENT
BEGIN:VEVENT
DTSTART;TZID=America/Chicago:20220212T100000
DTEND;TZID=America/Chicago:20220212T120000
DTSTAMP:20260421T152147
CREATED:20211230T183453Z
LAST-MODIFIED:20211230T183453Z
UID:2304-1644660000-1644667200@ouachitagreen.org
SUMMARY:Downtown West Monroe Team Up 2 Clean Up
DESCRIPTION:
URL:https://ouachitagreen.org/event/downtown-west-monroe-team-up-2-clean-up/
LOCATION:401 Trenton St. West Monroe\, LA\, 401 Trenton St.\, West Monroe\, LA\, 71291\, United States
ATTACH;FMTTYPE=image/jpeg:https://ouachitagreen.org/wp-content/uploads/Green-Family-Pattern-Ramadan-Kareem-Instagram-Post.jpg
ORGANIZER;CN="Ouachita Green":MAILTO:info@ouachitagreen.org
END:VEVENT
BEGIN:VEVENT
DTSTART;TZID=America/Chicago:20220205T100000
DTEND;TZID=America/Chicago:20220205T120000
DTSTAMP:20260421T152147
CREATED:20211228T172911Z
LAST-MODIFIED:20211228T172911Z
UID:2289-1644055200-1644062400@ouachitagreen.org
SUMMARY:District 3 Elm & Sherrouse Community Team Up 2 Clean Up
DESCRIPTION:
URL:https://ouachitagreen.org/event/district-3-elm-sherrouse-community-team-up-2-clean-up/
ATTACH;FMTTYPE=image/jpeg:https://ouachitagreen.org/wp-content/uploads/District-3-Elm-Sherrouse-1.jpg
ORGANIZER;CN="Ouachita Green":MAILTO:info@ouachitagreen.org
END:VEVENT
BEGIN:VEVENT
DTSTART;TZID=America/Chicago:20220129T100000
DTEND;TZID=America/Chicago:20220129T120000
DTSTAMP:20260421T152147
CREATED:20211215T184140Z
LAST-MODIFIED:20211215T184140Z
UID:2253-1643450400-1643457600@ouachitagreen.org
SUMMARY:George Welch Community Team Up 2 Clean Up
DESCRIPTION:
URL:https://ouachitagreen.org/event/george-welch-community-team-up-2-clean-up/
ATTACH;FMTTYPE=image/jpeg:https://ouachitagreen.org/wp-content/uploads/Blue-Gray-Modern-Hedphones-Sell-Promo-Advert-Instagram-Post.jpg
ORGANIZER;CN="Ouachita Green":MAILTO:info@ouachitagreen.org
END:VEVENT
BEGIN:VEVENT
DTSTART;TZID=America/Chicago:20220122T100000
DTEND;TZID=America/Chicago:20220122T120000
DTSTAMP:20260421T152147
CREATED:20211210T164424Z
LAST-MODIFIED:20211210T164424Z
UID:2243-1642845600-1642852800@ouachitagreen.org
SUMMARY:West Monroe High School Community Team Up 2 Clean Up
DESCRIPTION:
URL:https://ouachitagreen.org/event/west-monroe-high-school-community-team-up-2-clean-up/
ATTACH;FMTTYPE=image/jpeg:https://ouachitagreen.org/wp-content/uploads/WMHS-Community.jpg
END:VEVENT
BEGIN:VEVENT
DTSTART;TZID=America/Chicago:20220108T100000
DTEND;TZID=America/Chicago:20220108T120000
DTSTAMP:20260421T152147
CREATED:20211210T164103Z
LAST-MODIFIED:20211210T164103Z
UID:2238-1641636000-1641643200@ouachitagreen.org
SUMMARY:Lee Ave. District 4 Team Up 2 Clean Up
DESCRIPTION:
URL:https://ouachitagreen.org/event/lee-ave-district-4-team-up-2-clean-up/
LOCATION:Barkdull Faulk School\, 2110 Jackson St.\, Monroe\, LA\, 71202\, United States
ATTACH;FMTTYPE=image/jpeg:https://ouachitagreen.org/wp-content/uploads/District-4.jpg
ORGANIZER;CN="Ouachita Green":MAILTO:info@ouachitagreen.org
END:VEVENT
BEGIN:VEVENT
DTSTART;VALUE=DATE:20211231
DTEND;VALUE=DATE:20220101
DTSTAMP:20260421T152147
CREATED:20210908T180020Z
LAST-MODIFIED:20211127T162512Z
UID:2030-1640908800-1640995199@ouachitagreen.org
SUMMARY:Christmas At Kiroli
DESCRIPTION:
URL:https://ouachitagreen.org/event/christmas-at-kiroli/
LOCATION:Kiroli Park\, 820 Kiroli Rd.\, West Monroe\, LA\, 71291
ATTACH;FMTTYPE=image/jpeg:https://ouachitagreen.org/wp-content/uploads/Volunteer-Opportunity.jpg
ORGANIZER;CN="Ouachita Green":MAILTO:info@ouachitagreen.org
END:VEVENT
BEGIN:VEVENT
DTSTART;TZID=America/Chicago:20211218T090000
DTEND;TZID=America/Chicago:20211218T110000
DTSTAMP:20260421T152147
CREATED:20211215T184732Z
LAST-MODIFIED:20211215T184732Z
UID:2256-1639818000-1639825200@ouachitagreen.org
SUMMARY:Restoration Park Bulb Planting
DESCRIPTION:
URL:https://ouachitagreen.org/event/restoration-park-bulb-planting/
ATTACH;FMTTYPE=image/jpeg:https://ouachitagreen.org/wp-content/uploads/Restoration-Park.jpg
ORGANIZER;CN="Keep West Monroe Beautiful":MAILTO:info@kwmb.la
END:VEVENT
BEGIN:VEVENT
DTSTART;TZID=America/Chicago:20211113T090000
DTEND;TZID=America/Chicago:20211113T130000
DTSTAMP:20260421T152147
CREATED:20210707T152503Z
LAST-MODIFIED:20210707T152623Z
UID:1917-1636794000-1636808400@ouachitagreen.org
SUMMARY:America Recycles Day
DESCRIPTION:
URL:https://ouachitagreen.org/event/america-recycles-day/
LOCATION:Monroe Civic Center\, 401 Lea Joyner Memorial Expy\, Monroe\, LA\, 71201\, United States
ATTACH;FMTTYPE=image/jpeg:https://ouachitagreen.org/wp-content/uploads/Green-Recycle-Icon-Recycling-Poster-2.jpg
ORGANIZER;CN="Keep Monroe Beautiful":MAILTO:kimberly.essex@ci.monroe.la.us
END:VEVENT
BEGIN:VEVENT
DTSTART;TZID=America/Chicago:20211106T090000
DTEND;TZID=America/Chicago:20211106T110000
DTSTAMP:20260421T152147
CREATED:20211008T012503Z
LAST-MODIFIED:20211008T012604Z
UID:2091-1636189200-1636196400@ouachitagreen.org
SUMMARY:Lazarre Park Tree Planting
DESCRIPTION:
URL:https://ouachitagreen.org/event/lazarre-park-tree-planting/
ATTACH;FMTTYPE=image/jpeg:https://ouachitagreen.org/wp-content/uploads/Linen-Tree-Illustration-Plant-Campaign-Poster.jpg
ORGANIZER;CN="Keep West Monroe Beautiful":MAILTO:info@kwmb.la
END:VEVENT
BEGIN:VEVENT
DTSTART;TZID=America/Chicago:20211030T130000
DTEND;TZID=America/Chicago:20211030T210000
DTSTAMP:20260421T152147
CREATED:20210719T184221Z
LAST-MODIFIED:20210719T184221Z
UID:1946-1635598800-1635627600@ouachitagreen.org
SUMMARY:Fall Family Date Night
DESCRIPTION:
URL:https://ouachitagreen.org/event/fall-family-date-night/
LOCATION:Kiroli Park\, 820 Kiroli Rd.\, West Monroe\, LA\, 71291
ATTACH;FMTTYPE=image/jpeg:https://ouachitagreen.org/wp-content/uploads/Fall-Date-Night.jpg
ORGANIZER;CN="Ouachita Green":MAILTO:info@ouachitagreen.org
END:VEVENT
BEGIN:VEVENT
DTSTART;TZID=America/Chicago:20211024T100000
DTEND;TZID=America/Chicago:20211024T120000
DTSTAMP:20260421T152147
CREATED:20211008T012853Z
LAST-MODIFIED:20211008T013002Z
UID:2096-1635069600-1635076800@ouachitagreen.org
SUMMARY:ULM Community Team Up 2 Clean Up
DESCRIPTION:
URL:https://ouachitagreen.org/event/ulm-community-team-up-2-clean-up/
LOCATION:ulm library\, LA\, United States
ATTACH;FMTTYPE=image/jpeg:https://ouachitagreen.org/wp-content/uploads/ULM-Communtiy-1.jpg
END:VEVENT
BEGIN:VEVENT
DTSTART;TZID=America/Chicago:20211023T100000
DTEND;TZID=America/Chicago:20211023T130000
DTSTAMP:20260421T152147
CREATED:20210917T200613Z
LAST-MODIFIED:20210917T200613Z
UID:2053-1634983200-1634994000@ouachitagreen.org
SUMMARY:Kiroli Park Community Work Day
DESCRIPTION:
URL:https://ouachitagreen.org/event/kiroli-park-community-work-day/
LOCATION:Kiroli Park\, 820 Kiroli Rd.\, West Monroe\, LA\, 71291
ATTACH;FMTTYPE=image/jpeg:https://ouachitagreen.org/wp-content/uploads/Community-Workday-1.jpg
ORGANIZER;CN="Keep West Monroe Beautiful":MAILTO:info@kwmb.la
END:VEVENT
END:VCALENDAR