BEGIN:VCALENDAR
VERSION:2.0
PRODID:-//Ouachita Green - ECPv6.15.17.1//NONSGML v1.0//EN
CALSCALE:GREGORIAN
METHOD:PUBLISH
X-WR-CALNAME:Ouachita Green
X-ORIGINAL-URL:https://ouachitagreen.org
X-WR-CALDESC:Events for Ouachita Green
REFRESH-INTERVAL;VALUE=DURATION:PT1H
X-Robots-Tag:noindex
X-PUBLISHED-TTL:PT1H
BEGIN:VTIMEZONE
TZID:America/Chicago
BEGIN:DAYLIGHT
TZOFFSETFROM:-0600
TZOFFSETTO:-0500
TZNAME:CDT
DTSTART:20220313T080000
END:DAYLIGHT
BEGIN:STANDARD
TZOFFSETFROM:-0500
TZOFFSETTO:-0600
TZNAME:CST
DTSTART:20221106T070000
END:STANDARD
BEGIN:DAYLIGHT
TZOFFSETFROM:-0600
TZOFFSETTO:-0500
TZNAME:CDT
DTSTART:20230312T080000
END:DAYLIGHT
BEGIN:STANDARD
TZOFFSETFROM:-0500
TZOFFSETTO:-0600
TZNAME:CST
DTSTART:20231105T070000
END:STANDARD
BEGIN:DAYLIGHT
TZOFFSETFROM:-0600
TZOFFSETTO:-0500
TZNAME:CDT
DTSTART:20240310T080000
END:DAYLIGHT
BEGIN:STANDARD
TZOFFSETFROM:-0500
TZOFFSETTO:-0600
TZNAME:CST
DTSTART:20241103T070000
END:STANDARD
BEGIN:DAYLIGHT
TZOFFSETFROM:-0600
TZOFFSETTO:-0500
TZNAME:CDT
DTSTART:20250309T080000
END:DAYLIGHT
BEGIN:STANDARD
TZOFFSETFROM:-0500
TZOFFSETTO:-0600
TZNAME:CST
DTSTART:20251102T070000
END:STANDARD
END:VTIMEZONE
BEGIN:VEVENT
DTSTART;TZID=America/Chicago:20240427T100000
DTEND;TZID=America/Chicago:20240427T120000
DTSTAMP:20260419T081725
CREATED:20240306T174911Z
LAST-MODIFIED:20240306T174911Z
UID:4289-1714212000-1714219200@ouachitagreen.org
SUMMARY:Ouachita RiverFest (Recycling Event)
DESCRIPTION:There will be manned recycling containers throughout the festival.  Helping people discern recycling material.
URL:https://ouachitagreen.org/event/ouachita-riverfest-recycling-event/
LOCATION:Trenton Street\, Trenton Street\, West Monroe\, LA\, 71291\, United States
CATEGORIES:Recycling Event
ATTACH;FMTTYPE=image/png:https://ouachitagreen.org/wp-content/uploads/RiverFest-logo-transparent-800x470-1.png
END:VEVENT
BEGIN:VEVENT
DTSTART;TZID=America/Chicago:20240427T090000
DTEND;TZID=America/Chicago:20240427T130000
DTSTAMP:20260419T081725
CREATED:20240308T135424Z
LAST-MODIFIED:20240416T131953Z
UID:4320-1714208400-1714222800@ouachitagreen.org
SUMMARY:Education on Earth Day at Black Bayou Lake National Wildlife Refuge
DESCRIPTION:
URL:https://ouachitagreen.org/event/earth-day-at-black-bayou-lake-national-wildlife-refuge/
LOCATION:Black Bayou Lake National Wildlife Refuge\, 480 Richland Pl\, Monroe\, LA\, 71203\, United States
CATEGORIES:Cleanup,Education
ATTACH;FMTTYPE=image/png:https://ouachitagreen.org/wp-content/uploads/2024-Earth-Day1.png
END:VEVENT
BEGIN:VEVENT
DTSTART;TZID=America/Chicago:20240427T090000
DTEND;TZID=America/Chicago:20240427T120000
DTSTAMP:20260419T081725
CREATED:20240409T150817Z
LAST-MODIFIED:20240416T132054Z
UID:4412-1714208400-1714219200@ouachitagreen.org
SUMMARY:Wossman High School Neighborhood Clean-Up
DESCRIPTION:
URL:https://ouachitagreen.org/event/wossman-clean-up/
LOCATION:Wossman High School\, 1600 Arizona Ave\, Monroe\, 71202\, United States
CATEGORIES:Cleanup
ATTACH;FMTTYPE=image/png:https://ouachitagreen.org/wp-content/uploads/Wossman-library-cleanup.png
END:VEVENT
BEGIN:VEVENT
DTSTART;TZID=America/Chicago:20240426T150000
DTEND;TZID=America/Chicago:20240426T170000
DTSTAMP:20260419T081725
CREATED:20240320T134442Z
LAST-MODIFIED:20240404T164727Z
UID:4329-1714143600-1714150800@ouachitagreen.org
SUMMARY:WOHS Community Cleanup
DESCRIPTION:
URL:https://ouachitagreen.org/event/wohs-community-cleanup/
LOCATION:West Ouachita High School\, 4601 Caples Road\, West Monroe\, LA\, 71292\, United States
CATEGORIES:Cleanup
ATTACH;FMTTYPE=image/jpeg:https://ouachitagreen.org/wp-content/uploads/image0-1.jpeg
END:VEVENT
BEGIN:VEVENT
DTSTART;TZID=America/Chicago:20240426T130000
DTEND;TZID=America/Chicago:20240426T150000
DTSTAMP:20260419T081725
CREATED:20240306T172701Z
LAST-MODIFIED:20240416T132335Z
UID:4276-1714136400-1714143600@ouachitagreen.org
SUMMARY:Biedenharn Museum & Gardens Community Cleanup
DESCRIPTION: 
URL:https://ouachitagreen.org/event/biedenharn-museum-gardens-community-cleanup/
LOCATION:Biedenharn Museum & Gardens\, 2000 Riverside Dr\, Monroe\, LA 71201\, Monroe\, LA\, 71021\, United States
CATEGORIES:Cleanup
ATTACH;FMTTYPE=image/png:https://ouachitagreen.org/wp-content/uploads/LTB-Clean-Up-Beidenharn.png
END:VEVENT
BEGIN:VEVENT
DTSTART;TZID=America/Chicago:20240426T100000
DTEND;TZID=America/Chicago:20240426T140000
DTSTAMP:20260419T081725
CREATED:20240401T204904Z
LAST-MODIFIED:20240416T132557Z
UID:4379-1714125600-1714140000@ouachitagreen.org
SUMMARY:Saul Adler Community Center Cleanup
DESCRIPTION:
URL:https://ouachitagreen.org/event/saul-adler-community-center-cleanup/
LOCATION:Saul Adler Community Center\, 3900 Westminster Ave\, Monroe\, LA\, 71203\, United States
CATEGORIES:Cleanup
ATTACH;FMTTYPE=image/png:https://ouachitagreen.org/wp-content/uploads/Love-the-Boot-Week-Community-Cleanups.png
END:VEVENT
BEGIN:VEVENT
DTSTART;TZID=America/Chicago:20240426T100000
DTEND;TZID=America/Chicago:20240426T140000
DTSTAMP:20260419T081725
CREATED:20240401T204535Z
LAST-MODIFIED:20240416T132629Z
UID:4375-1714125600-1714140000@ouachitagreen.org
SUMMARY:Powell Street Community Center Cleanup
DESCRIPTION:
URL:https://ouachitagreen.org/event/powell-street-community-center-cleanup/
LOCATION:Powell Street Community Center\, 1401 Powell Ave\, Monroe\, LA\, 71203\, United States
CATEGORIES:Cleanup
ATTACH;FMTTYPE=image/png:https://ouachitagreen.org/wp-content/uploads/Love-the-Boot-Week-Community-Cleanups.png
END:VEVENT
BEGIN:VEVENT
DTSTART;TZID=America/Chicago:20240425T100000
DTEND;TZID=America/Chicago:20240425T140000
DTSTAMP:20260419T081725
CREATED:20240401T204206Z
LAST-MODIFIED:20240416T132702Z
UID:4372-1714039200-1714053600@ouachitagreen.org
SUMMARY:Liller Marbles Community Center Cleanup
DESCRIPTION:
URL:https://ouachitagreen.org/event/liller-marbles-community-center-cleanup/
LOCATION:Liller Marbles Community Center\, 2950 Renwick St.\, Monroe\, LA\, 71201\, United States
CATEGORIES:Cleanup
ATTACH;FMTTYPE=image/png:https://ouachitagreen.org/wp-content/uploads/Love-the-Boot-Week-Community-Cleanups.png
END:VEVENT
BEGIN:VEVENT
DTSTART;TZID=America/Chicago:20240425T083000
DTEND;TZID=America/Chicago:20240425T103000
DTSTAMP:20260419T081725
CREATED:20240401T132037Z
LAST-MODIFIED:20240416T132734Z
UID:4352-1714033800-1714041000@ouachitagreen.org
SUMMARY:Paper Shredding Event
DESCRIPTION:Event starts at 8:30AM and finishes when the truck is filled.
URL:https://ouachitagreen.org/event/paper-shredding-event/
LOCATION:West Monroe Chamber of Commerce\, 112 Professional Drive\, West Monroe\, LA\, 71291\, United States
CATEGORIES:Recycling Event
ATTACH;FMTTYPE=image/png:https://ouachitagreen.org/wp-content/uploads/Paper-Shredding-Graphic-scaled.png
END:VEVENT
BEGIN:VEVENT
DTSTART;TZID=America/Chicago:20240424T100000
DTEND;TZID=America/Chicago:20240424T140000
DTSTAMP:20260419T081725
CREATED:20240401T203949Z
LAST-MODIFIED:20240416T132802Z
UID:4369-1713952800-1713967200@ouachitagreen.org
SUMMARY:Henrietta Johnson Community Center Cleanup
DESCRIPTION:
URL:https://ouachitagreen.org/event/henrietta-johnson-community-center-cleanup/
LOCATION:Henrietta Johnson Community Center\, 2800 Burg Jones Ln.\, Monroe\, LA\, 71202\, United States
CATEGORIES:Cleanup
ATTACH;FMTTYPE=image/png:https://ouachitagreen.org/wp-content/uploads/Love-the-Boot-Week-Community-Cleanups.png
END:VEVENT
BEGIN:VEVENT
DTSTART;TZID=America/Chicago:20240424T100000
DTEND;TZID=America/Chicago:20240424T120000
DTSTAMP:20260419T081725
CREATED:20240403T133516Z
LAST-MODIFIED:20240416T132835Z
UID:4383-1713952800-1713960000@ouachitagreen.org
SUMMARY:Shred-Recycle Event
DESCRIPTION:
URL:https://ouachitagreen.org/event/shred-recycle-event/
LOCATION:Premiere Plaza\, 1900 N 19th\, Monroe\, LA\, 71201\, United States
CATEGORIES:Recycling Event
ATTACH;FMTTYPE=image/jpeg:https://ouachitagreen.org/wp-content/uploads/434405006_716848667285887_7938784812802217186_n.jpg
END:VEVENT
BEGIN:VEVENT
DTSTART;TZID=America/Chicago:20240424T083000
DTEND;TZID=America/Chicago:20240424T103000
DTSTAMP:20260419T081725
CREATED:20240320T143718Z
LAST-MODIFIED:20240416T132906Z
UID:4335-1713947400-1713954600@ouachitagreen.org
SUMMARY:Making Forsythe Park Cleaner and Greener!
DESCRIPTION:
URL:https://ouachitagreen.org/event/making-forsythe-park-cleaner-and-greener/
LOCATION:Monroe Municipal Golf Course\, 2500 Sycamore St.\, Monroe\, LA\, 71201\, United States
CATEGORIES:Cleanup
ATTACH;FMTTYPE=image/jpeg:https://ouachitagreen.org/wp-content/uploads/Forsythe-Park-Cleanup-Flyer-scaled.jpg
END:VEVENT
BEGIN:VEVENT
DTSTART;TZID=America/Chicago:20240424T080000
DTEND;TZID=America/Chicago:20240424T100000
DTSTAMP:20260419T081725
CREATED:20240308T140200Z
LAST-MODIFIED:20240416T133001Z
UID:4322-1713945600-1713952800@ouachitagreen.org
SUMMARY:Beautification of the Metal Park
DESCRIPTION:We will be planting trees and plants in the metal park at the corner of Trenton and Wood Street.
URL:https://ouachitagreen.org/event/beautification-of-the-metal-park/
LOCATION:LA
CATEGORIES:Beautification
END:VEVENT
BEGIN:VEVENT
DTSTART;TZID=America/Chicago:20240423T100000
DTEND;TZID=America/Chicago:20240423T140000
DTSTAMP:20260419T081725
CREATED:20240401T203726Z
LAST-MODIFIED:20240416T133030Z
UID:4365-1713866400-1713880800@ouachitagreen.org
SUMMARY:Harvey Benoit Community Center Cleanup
DESCRIPTION:
URL:https://ouachitagreen.org/event/harvey-benoit-community-center/
LOCATION:Harvey Benoit Community Center\, 1700 Oaklawn Dr\, Monroe\, LA\, 71202\, United States
CATEGORIES:Cleanup
ATTACH;FMTTYPE=image/png:https://ouachitagreen.org/wp-content/uploads/Love-the-Boot-Week-Community-Cleanups.png
END:VEVENT
BEGIN:VEVENT
DTSTART;TZID=America/Chicago:20240422T110000
DTEND;TZID=America/Chicago:20240422T130000
DTSTAMP:20260419T081725
CREATED:20240320T152117Z
LAST-MODIFIED:20240416T133054Z
UID:4346-1713783600-1713790800@ouachitagreen.org
SUMMARY:Keep ULM Beautiful - Love the Boot Campus Cleanup at ULM
DESCRIPTION:Cleanup events from April 22 to April 25. \nGo to their website to learn more: https://calendar.ulm.edu/event/6150-keep-ulm-beautiful-love-the-boot-campus-cleanup
URL:https://ouachitagreen.org/event/keep-ulm-beautiful-love-the-boot-campus-cleanup-at-ulm/
LOCATION:ULM Library overhang\, 3900 Northeast Dr\, Monroe\, LA\, 71203\, United States
END:VEVENT
BEGIN:VEVENT
DTSTART;TZID=America/Chicago:20240422T100000
DTEND;TZID=America/Chicago:20240422T140000
DTSTAMP:20260419T081725
CREATED:20240401T203453Z
LAST-MODIFIED:20240416T133126Z
UID:4359-1713780000-1713794400@ouachitagreen.org
SUMMARY:Emily P. Robinson Community Center Cleanup
DESCRIPTION:
URL:https://ouachitagreen.org/event/emily-p-robinson-community-center-cleanup/
LOCATION:Emily P. Robinson Community Center\, 3504 Jackson St.\, Monroe\, LA\, 71202\, United States
CATEGORIES:Cleanup
ATTACH;FMTTYPE=image/png:https://ouachitagreen.org/wp-content/uploads/Love-the-Boot-Week-Community-Cleanups.png
END:VEVENT
BEGIN:VEVENT
DTSTART;TZID=America/Chicago:20240422T100000
DTEND;TZID=America/Chicago:20240422T120000
DTSTAMP:20260419T081725
CREATED:20240417T131654Z
LAST-MODIFIED:20240417T131654Z
UID:4449-1713780000-1713787200@ouachitagreen.org
SUMMARY:Love the Boot Week: West Monroe Activities
DESCRIPTION:
URL:https://ouachitagreen.org/event/love-the-boot-week-west-monroe-activities/
LOCATION:LA
CATEGORIES:Beautification,Cleanup,Education,Recycling Event
ATTACH;FMTTYPE=image/png:https://ouachitagreen.org/wp-content/uploads/2024-West-Monroe-Love-the-Boot-Activities.png
END:VEVENT
BEGIN:VEVENT
DTSTART;TZID=America/Chicago:20240422T100000
DTEND;TZID=America/Chicago:20240422T120000
DTSTAMP:20260419T081725
CREATED:20240306T171623Z
LAST-MODIFIED:20240416T133201Z
UID:4274-1713780000-1713787200@ouachitagreen.org
SUMMARY:Leaders Against Litter
DESCRIPTION:Leaders Against Litter event showcases our community leaders and elected officials “leading the way” in our charge against litter. This initiative raises awareness about how Louisiana’s pervasive litter problem affects communities by inviting community leaders to observe the problem first-hand by cleaning up a local roadway and educating participants about the direct and indirect costs and damage caused by litter. We asked all leaders to make a public commitment by pledging to SPEAK UP\, PICK UP\, and STAND UP for a litter-free Louisiana and join in a community cleanup. \nCity Hall front steps at 10am.
URL:https://ouachitagreen.org/event/leaders-against-litter/
LOCATION:West Monroe City Hall\, 2305 N. 7th St.\, West Monroe\, LA\, 71291\, United States
CATEGORIES:Cleanup
ATTACH;FMTTYPE=image/jpeg:https://ouachitagreen.org/wp-content/uploads/IMG_8980.jpeg
END:VEVENT
BEGIN:VEVENT
DTSTART;TZID=America/Chicago:20240420T130000
DTEND;TZID=America/Chicago:20240420T160000
DTSTAMP:20260419T081725
CREATED:20240306T171004Z
LAST-MODIFIED:20240416T133307Z
UID:4271-1713618000-1713628800@ouachitagreen.org
SUMMARY:BrewFest
DESCRIPTION:
URL:https://ouachitagreen.org/event/woofstock-24/
LOCATION:Kiroli Park\, 820 Kiroli Rd.\, West Monroe\, LA\, 71291
CATEGORIES:Recycling Event
ATTACH;FMTTYPE=image/jpeg:https://ouachitagreen.org/wp-content/uploads/brewfest.jpg
END:VEVENT
BEGIN:VEVENT
DTSTART;TZID=America/Chicago:20240420T110000
DTEND;TZID=America/Chicago:20240420T130000
DTSTAMP:20260419T081725
CREATED:20240415T203252Z
LAST-MODIFIED:20240416T133338Z
UID:4440-1713610800-1713618000@ouachitagreen.org
SUMMARY:Anti-Blight Rally 2024
DESCRIPTION:
URL:https://ouachitagreen.org/event/anti-blight-rally-2024/
LOCATION:Powell Recreation Center\, 1401 Powell Ave\, Monroe\, LA\, 71203\, United States
CATEGORIES:Cleanup
ATTACH;FMTTYPE=image/png:https://ouachitagreen.org/wp-content/uploads/Anti-Blight-Rally.png
END:VEVENT
BEGIN:VEVENT
DTSTART;TZID=America/Chicago:20240420T100000
DTEND;TZID=America/Chicago:20240420T120000
DTSTAMP:20260419T081725
CREATED:20240306T165934Z
LAST-MODIFIED:20240416T133421Z
UID:4266-1713607200-1713614400@ouachitagreen.org
SUMMARY:Richwood Community Cleanup
DESCRIPTION:
URL:https://ouachitagreen.org/event/richwood-community-cleanup/
LOCATION:Richwood Multipurpose Center\, 2710 Martin Luther King Dr\, Richwood\, LA\, 71201\, United States
CATEGORIES:Cleanup
ATTACH;FMTTYPE=image/png:https://ouachitagreen.org/wp-content/uploads/spring-clean-richwood.png
END:VEVENT
BEGIN:VEVENT
DTSTART;TZID=America/Chicago:20240420T080000
DTEND;TZID=America/Chicago:20240420T140000
DTSTAMP:20260419T081725
CREATED:20240415T203926Z
LAST-MODIFIED:20240416T133744Z
UID:4445-1713600000-1713621600@ouachitagreen.org
SUMMARY:The Mini Haul
DESCRIPTION:For the residents of the Booker T Community. \nCall 318-329-2209 Mon-Thurs 8AM – 2PM or email mary.williams@ci.monroe.la.us to request a pick-up.
URL:https://ouachitagreen.org/event/the-mini-haul/
LOCATION:LA
CATEGORIES:Recycling Event
ATTACH;FMTTYPE=image/png:https://ouachitagreen.org/wp-content/uploads/Mini-Haul-24.png
END:VEVENT
BEGIN:VEVENT
DTSTART;TZID=America/Chicago:20240320T080000
DTEND;TZID=America/Chicago:20240320T170000
DTSTAMP:20260419T081725
CREATED:20240320T144612Z
LAST-MODIFIED:20240320T144648Z
UID:4342-1710921600-1710954000@ouachitagreen.org
SUMMARY:Keep West Monroe Beautiful:  Spring Poster Contest
DESCRIPTION:Deadline is Monday\, April 8\, 2024.
URL:https://ouachitagreen.org/event/keep-west-monroe-beautiful-spring-poster-contest/
LOCATION:LA
CATEGORIES:Beautification
END:VEVENT
BEGIN:VEVENT
DTSTART;TZID=America/Chicago:20240320T080000
DTEND;TZID=America/Chicago:20240320T170000
DTSTAMP:20260419T081725
CREATED:20240320T144343Z
LAST-MODIFIED:20240320T144357Z
UID:4338-1710921600-1710954000@ouachitagreen.org
SUMMARY:Frame the Drain: Storm Drain Art Project
DESCRIPTION:Deadline is Friday\, April 12\, 2024.
URL:https://ouachitagreen.org/event/frame-the-drain-storm-drain-art-project/
LOCATION:LA
CATEGORIES:Beautification
END:VEVENT
BEGIN:VEVENT
DTSTART;TZID=America/Chicago:20240316T090000
DTEND;TZID=America/Chicago:20240316T130000
DTSTAMP:20260419T081725
CREATED:20240208T220605Z
LAST-MODIFIED:20240214T231649Z
UID:4244-1710579600-1710594000@ouachitagreen.org
SUMMARY:Household Hazardous Waste 2024
DESCRIPTION:Join us for HHW!
URL:https://ouachitagreen.org/event/household-hazardous-waste-2024/
LOCATION:IKE Hamilton Expo Center\, 501 Mane St\, West Monroe\, 71292
CATEGORIES:Recycling Event
ATTACH;FMTTYPE=image/jpeg:https://ouachitagreen.org/wp-content/uploads/425508573_686600226977398_216453477280492422_n.jpg
ORGANIZER;CN="Ouachita Green":MAILTO:info@ouachitagreen.org
END:VEVENT
BEGIN:VEVENT
DTSTART;TZID=America/Chicago:20240316T090000
DTEND;TZID=America/Chicago:20240316T110000
DTSTAMP:20260419T081725
CREATED:20240307T204636Z
LAST-MODIFIED:20240307T204636Z
UID:4303-1710579600-1710586800@ouachitagreen.org
SUMMARY:Community Clean Up with Councilman Carday Marshall
DESCRIPTION:
URL:https://ouachitagreen.org/event/community-clean-up-with-councilman-carday-marshall/
LOCATION:LA
CATEGORIES:Cleanup
END:VEVENT
BEGIN:VEVENT
DTSTART;TZID=America/Chicago:20240316T084500
DTEND;TZID=America/Chicago:20240316T110000
DTSTAMP:20260419T081725
CREATED:20240307T204738Z
LAST-MODIFIED:20240308T152444Z
UID:4308-1710578700-1710586800@ouachitagreen.org
SUMMARY:District 5 Community Clean Up Day
DESCRIPTION:
URL:https://ouachitagreen.org/event/district-5-community-clean-up-day/
LOCATION:Louisiana Purchase Gardens and Zoo\, 1405 Bernstein Park Dr.\, Monroe\, LA\, United States
CATEGORIES:Cleanup
END:VEVENT
BEGIN:VEVENT
DTSTART;TZID=America/Chicago:20240224T090000
DTEND;TZID=America/Chicago:20240224T110000
DTSTAMP:20260419T081725
CREATED:20240214T230845Z
LAST-MODIFIED:20240214T231039Z
UID:4249-1708765200-1708772400@ouachitagreen.org
SUMMARY:West Monroe High School Community Cleanup
DESCRIPTION:  \nJoin us to help keep our community clean & green! All supplies are provided.
URL:https://ouachitagreen.org/event/west-monroe-high-school-community-cleanup/
LOCATION:West Monroe High School\, 201 Riggs St\, West Monroe\, LA\, 71291
CATEGORIES:Cleanup
ATTACH;FMTTYPE=image/jpeg:https://ouachitagreen.org/wp-content/uploads/IMG_9205.jpg
ORGANIZER;CN="Ouachita Green":MAILTO:info@ouachitagreen.org
END:VEVENT
BEGIN:VEVENT
DTSTART;TZID=America/Chicago:20240120T090000
DTEND;TZID=America/Chicago:20240120T110000
DTSTAMP:20260419T081725
CREATED:20240105T023040Z
LAST-MODIFIED:20240105T023040Z
UID:4236-1705741200-1705748400@ouachitagreen.org
SUMMARY:KWMB Community Cleanup
DESCRIPTION:
URL:https://ouachitagreen.org/event/kwmb-community-cleanup/
LOCATION:West Monroe High School\, 201 Riggs St\, West Monroe\, LA\, 71291
CATEGORIES:Cleanup
ATTACH;FMTTYPE=image/png:https://ouachitagreen.org/wp-content/uploads/Community-Cleanup-1.20.png
ORGANIZER;CN="Keep West Monroe Beautiful":MAILTO:info@kwmb.la
END:VEVENT
BEGIN:VEVENT
DTSTART;TZID=America/Chicago:20231111T090000
DTEND;TZID=America/Chicago:20231111T130000
DTSTAMP:20260419T081725
CREATED:20230903T170931Z
LAST-MODIFIED:20230903T170931Z
UID:4007-1699693200-1699707600@ouachitagreen.org
SUMMARY:America Recycles Day
DESCRIPTION:
URL:https://ouachitagreen.org/event/america-recycles-day-3/
LOCATION:Monroe Civic Center\, 401 Lea Joyner Memorial Expy\, Monroe\, LA\, 71201\, United States
ATTACH;FMTTYPE=image/png:https://ouachitagreen.org/wp-content/uploads/America-Recycles-Day-2023.png
ORGANIZER;CN="Ouachita Green":MAILTO:info@ouachitagreen.org
END:VEVENT
END:VCALENDAR